Workbook

Sheet BP Log
A1: WEEKLY BLOOD PRESSURE AVERAGES
A2: Name: ____________ Doctor: ____________ Target: ____ / ____ mmHg
A4: Week | B4: Readings | C4: Avg systolic | D4: Avg diastolic | E4: Avg pulse | F4: Highest sys | G4: Notes
A5: 1 | B5: =COUNTIF(Readings!$B$2:$B$400,1) | C5: =IF(B5=0,"",ROUND(AVERAGEIF(Readings!$B$2:$B$400,1,Readings!$C$2:$C$400),0)) | D5: =IF(B5=0,"",ROUND(AVERAGEIF(Readings!$B$2:$B$400,1,Readings!$D$2:$D$400),0)) | E5: =IF(B5=0,"",ROUND(AVERAGEIF(Readings!$B$2:$B$400,1,Readings!$E$2:$E$400),0)) | F5: =IF(B5=0,"",SUMPRODUCT(MAX((Readings!$B$2:$B$400=1)*Readings!$C$2:$C$400)))
A6: 2 | B6: =COUNTIF(Readings!$B$2:$B$400,2) | C6: =IF(B6=0,"",ROUND(AVERAGEIF(Readings!$B$2:$B$400,2,Readings!$C$2:$C$400),0)) | D6: =IF(B6=0,"",ROUND(AVERAGEIF(Readings!$B$2:$B$400,2,Readings!$D$2:$D$400),0)) | E6: =IF(B6=0,"",ROUND(AVERAGEIF(Readings!$B$2:$B$400,2,Readings!$E$2:$E$400),0)) | F6: =IF(B6=0,"",SUMPRODUCT(MAX((Readings!$B$2:$B$400=2)*Readings!$C$2:$C$400)))
A7: 3 | B7: =COUNTIF(Readings!$B$2:$B$400,3) | C7: =IF(B7=0,"",ROUND(AVERAGEIF(Readings!$B$2:$B$400,3,Readings!$C$2:$C$400),0)) | D7: =IF(B7=0,"",ROUND(AVERAGEIF(Readings!$B$2:$B$400,3,Readings!$D$2:$D$400),0)) | E7: =IF(B7=0,"",ROUND(AVERAGEIF(Readings!$B$2:$B$400,3,Readings!$E$2:$E$400),0)) | F7: =IF(B7=0,"",SUMPRODUCT(MAX((Readings!$B$2:$B$400=3)*Readings!$C$2:$C$400)))
A8: 4 | B8: =COUNTIF(Readings!$B$2:$B$400,4) | C8: =IF(B8=0,"",ROUND(AVERAGEIF(Readings!$B$2:$B$400,4,Readings!$C$2:$C$400),0)) | D8: =IF(B8=0,"",ROUND(AVERAGEIF(Readings!$B$2:$B$400,4,Readings!$D$2:$D$400),0)) | E8: =IF(B8=0,"",ROUND(AVERAGEIF(Readings!$B$2:$B$400,4,Readings!$E$2:$E$400),0)) | F8: =IF(B8=0,"",SUMPRODUCT(MAX((Readings!$B$2:$B$400=4)*Readings!$C$2:$C$400)))
A9: 5 | B9: =COUNTIF(Readings!$B$2:$B$400,5) | C9: =IF(B9=0,"",ROUND(AVERAGEIF(Readings!$B$2:$B$400,5,Readings!$C$2:$C$400),0)) | D9: =IF(B9=0,"",ROUND(AVERAGEIF(Readings!$B$2:$B$400,5,Readings!$D$2:$D$400),0)) | E9: =IF(B9=0,"",ROUND(AVERAGEIF(Readings!$B$2:$B$400,5,Readings!$E$2:$E$400),0)) | F9: =IF(B9=0,"",SUMPRODUCT(MAX((Readings!$B$2:$B$400=5)*Readings!$C$2:$C$400)))
A10: 6 | B10: =COUNTIF(Readings!$B$2:$B$400,6) | C10: =IF(B10=0,"",ROUND(AVERAGEIF(Readings!$B$2:$B$400,6,Readings!$C$2:$C$400),0)) | D10: =IF(B10=0,"",ROUND(AVERAGEIF(Readings!$B$2:$B$400,6,Readings!$D$2:$D$400),0)) | E10: =IF(B10=0,"",ROUND(AVERAGEIF(Readings!$B$2:$B$400,6,Readings!$E$2:$E$400),0)) | F10: =IF(B10=0,"",SUMPRODUCT(MAX((Readings!$B$2:$B$400=6)*Readings!$C$2:$C$400)))
A11: 7 | B11: =COUNTIF(Readings!$B$2:$B$400,7) | C11: =IF(B11=0,"",ROUND(AVERAGEIF(Readings!$B$2:$B$400,7,Readings!$C$2:$C$400),0)) | D11: =IF(B11=0,"",ROUND(AVERAGEIF(Readings!$B$2:$B$400,7,Readings!$D$2:$D$400),0)) | E11: =IF(B11=0,"",ROUND(AVERAGEIF(Readings!$B$2:$B$400,7,Readings!$E$2:$E$400),0)) | F11: =IF(B11=0,"",SUMPRODUCT(MAX((Readings!$B$2:$B$400=7)*Readings!$C$2:$C$400)))
A12: 8 | B12: =COUNTIF(Readings!$B$2:$B$400,8) | C12: =IF(B12=0,"",ROUND(AVERAGEIF(Readings!$B$2:$B$400,8,Readings!$C$2:$C$400),0)) | D12: =IF(B12=0,"",ROUND(AVERAGEIF(Readings!$B$2:$B$400,8,Readings!$D$2:$D$400),0)) | E12: =IF(B12=0,"",ROUND(AVERAGEIF(Readings!$B$2:$B$400,8,Readings!$E$2:$E$400),0)) | F12: =IF(B12=0,"",SUMPRODUCT(MAX((Readings!$B$2:$B$400=8)*Readings!$C$2:$C$400)))
A13: 9 | B13: =COUNTIF(Readings!$B$2:$B$400,9) | C13: =IF(B13=0,"",ROUND(AVERAGEIF(Readings!$B$2:$B$400,9,Readings!$C$2:$C$400),0)) | D13: =IF(B13=0,"",ROUND(AVERAGEIF(Readings!$B$2:$B$400,9,Readings!$D$2:$D$400),0)) | E13: =IF(B13=0,"",ROUND(AVERAGEIF(Readings!$B$2:$B$400,9,Readings!$E$2:$E$400),0)) | F13: =IF(B13=0,"",SUMPRODUCT(MAX((Readings!$B$2:$B$400=9)*Readings!$C$2:$C$400)))
A14: 10 | B14: =COUNTIF(Readings!$B$2:$B$400,10) | C14: =IF(B14=0,"",ROUND(AVERAGEIF(Readings!$B$2:$B$400,10,Readings!$C$2:$C$400),0)) | D14: =IF(B14=0,"",ROUND(AVERAGEIF(Readings!$B$2:$B$400,10,Readings!$D$2:$D$400),0)) | E14: =IF(B14=0,"",ROUND(AVERAGEIF(Readings!$B$2:$B$400,10,Readings!$E$2:$E$400),0)) | F14: =IF(B14=0,"",SUMPRODUCT(MAX((Readings!$B$2:$B$400=10)*Readings!$C$2:$C$400)))
A15: 11 | B15: =COUNTIF(Readings!$B$2:$B$400,11) | C15: =IF(B15=0,"",ROUND(AVERAGEIF(Readings!$B$2:$B$400,11,Readings!$C$2:$C$400),0)) | D15: =IF(B15=0,"",ROUND(AVERAGEIF(Readings!$B$2:$B$400,11,Readings!$D$2:$D$400),0)) | E15: =IF(B15=0,"",ROUND(AVERAGEIF(Readings!$B$2:$B$400,11,Readings!$E$2:$E$400),0)) | F15: =IF(B15=0,"",SUMPRODUCT(MAX((Readings!$B$2:$B$400=11)*Readings!$C$2:$C$400)))
A16: 12 | B16: =COUNTIF(Readings!$B$2:$B$400,12) | C16: =IF(B16=0,"",ROUND(AVERAGEIF(Readings!$B$2:$B$400,12,Readings!$C$2:$C$400),0)) | D16: =IF(B16=0,"",ROUND(AVERAGEIF(Readings!$B$2:$B$400,12,Readings!$D$2:$D$400),0)) | E16: =IF(B16=0,"",ROUND(AVERAGEIF(Readings!$B$2:$B$400,12,Readings!$E$2:$E$400),0)) | F16: =IF(B16=0,"",SUMPRODUCT(MAX((Readings!$B$2:$B$400=12)*Readings!$C$2:$C$400)))

Sheet Readings
A1: Date | B1: Week | C1: Systolic | D1: Diastolic | E1: Pulse
A2: 46327 | B2: =INT((A2-$A$2)/7)+1 | C2: 123 | D2: 83 | E2: 72
A3: 46328 | B3: =INT((A3-$A$2)/7)+1 | C3: 120 | D3: 79 | E3: 78
A4: 46329 | B4: =INT((A4-$A$2)/7)+1 | C4: 131 | D4: 84 | E4: 73
A5: 46330 | B5: =INT((A5-$A$2)/7)+1 | C5: 118 | D5: 83 | E5: 64
A6: 46331 | B6: =INT((A6-$A$2)/7)+1 | C6: 131 | D6: 78 | E6: 72
A7: 46332 | B7: =INT((A7-$A$2)/7)+1 | C7: 123 | D7: 77 | E7: 75
A8: 46333 | B8: =INT((A8-$A$2)/7)+1 | C8: 131 | D8: 82 | E8: 77
A9: 46334 | B9: =INT((A9-$A$2)/7)+1 | C9: 133 | D9: 81 | E9: 70
A10: 46335 | B10: =INT((A10-$A$2)/7)+1 | C10: 120 | D10: 77 | E10: 74
A11: 46336 | B11: =INT((A11-$A$2)/7)+1 | C11: 120 | D11: 82 | E11: 70
A12: 46337 | B12: =INT((A12-$A$2)/7)+1 | C12: 116 | D12: 84 | E12: 76
A13: 46338 | B13: =INT((A13-$A$2)/7)+1 | C13: 118 | D13: 76 | E13: 76
... A15: 46340 | B15: =INT((A15-$A$2)/7)+1 | C15: 116 | D15: 78 | E15: 71
